BEGIN:VCALENDAR
VERSION:2.0
PRODID:-//The Garden Club at Palm Coast - ECPv6.15.20//NONSGML v1.0//EN
CALSCALE:GREGORIAN
METHOD:PUBLISH
X-WR-CALNAME:The Garden Club at Palm Coast
X-ORIGINAL-URL:https://gardenclubatpalmcoast.org
X-WR-CALDESC:Events for The Garden Club at Palm Coast
REFRESH-INTERVAL;VALUE=DURATION:PT1H
X-Robots-Tag:noindex
X-PUBLISHED-TTL:PT1H
BEGIN:VTIMEZONE
TZID:America/New_York
BEGIN:DAYLIGHT
TZOFFSETFROM:-0500
TZOFFSETTO:-0400
TZNAME:EDT
DTSTART:20180311T070000
END:DAYLIGHT
BEGIN:STANDARD
TZOFFSETFROM:-0400
TZOFFSETTO:-0500
TZNAME:EST
DTSTART:20181104T060000
END:STANDARD
BEGIN:DAYLIGHT
TZOFFSETFROM:-0500
TZOFFSETTO:-0400
TZNAME:EDT
DTSTART:20190310T070000
END:DAYLIGHT
BEGIN:STANDARD
TZOFFSETFROM:-0400
TZOFFSETTO:-0500
TZNAME:EST
DTSTART:20191103T060000
END:STANDARD
BEGIN:DAYLIGHT
TZOFFSETFROM:-0500
TZOFFSETTO:-0400
TZNAME:EDT
DTSTART:20200308T070000
END:DAYLIGHT
BEGIN:STANDARD
TZOFFSETFROM:-0400
TZOFFSETTO:-0500
TZNAME:EST
DTSTART:20201101T060000
END:STANDARD
END:VTIMEZONE
BEGIN:VEVENT
DTSTART;TZID=America/New_York:20190123T100000
DTEND;TZID=America/New_York:20190123T120000
DTSTAMP:20260421T002812
CREATED:20190117T235112Z
LAST-MODIFIED:20190117T235112Z
UID:1587-1548237600-1548244800@gardenclubatpalmcoast.org
SUMMARY:Painted Rock Cactus Craft - workshop
DESCRIPTION:For the next three months\, Kelley Callery will be teaching us how to make some garden related craft projects. The first class will be painted rock cactus\, the second class will be beautiful necklaces made with alcohol inks and the third class will be garden fairy wands. \nEach class will be limited to 25 participants and all supplies will be provided for each person to make 2 of each project\, one to take home and one to be donated to the GCPC spring festival for sale at our booth. \nThe cost for each class is $10 and sign-up sheets will be at our general meetings and on our website. \nClasses will be held at Realty Exchange at Island Walk Shopping Center\, 300 Palm Coast Pkwy NE\, Palm Coast\, 10am – 12noon.
URL:https://gardenclubatpalmcoast.org/event/painted-rock-cactus-craft-workshop
LOCATION:Realty Exchange\, Island Walk Shopping Center\, 300 Palm Coast Pkwy NE\, Palm Coast\, FL\, United States
CATEGORIES:Training
END:VEVENT
END:VCALENDAR