BEGIN:VCALENDAR
VERSION:2.0
PRODID:-//The Garden Club at Palm Coast - ECPv6.15.20//NONSGML v1.0//EN
CALSCALE:GREGORIAN
METHOD:PUBLISH
X-ORIGINAL-URL:https://gardenclubatpalmcoast.org
X-WR-CALDESC:Events for The Garden Club at Palm Coast
REFRESH-INTERVAL;VALUE=DURATION:PT1H
X-Robots-Tag:noindex
X-PUBLISHED-TTL:PT1H
BEGIN:VTIMEZONE
TZID:America/New_York
BEGIN:DAYLIGHT
TZOFFSETFROM:-0500
TZOFFSETTO:-0400
TZNAME:EDT
DTSTART:20180311T070000
END:DAYLIGHT
BEGIN:STANDARD
TZOFFSETFROM:-0400
TZOFFSETTO:-0500
TZNAME:EST
DTSTART:20181104T060000
END:STANDARD
BEGIN:DAYLIGHT
TZOFFSETFROM:-0500
TZOFFSETTO:-0400
TZNAME:EDT
DTSTART:20190310T070000
END:DAYLIGHT
BEGIN:STANDARD
TZOFFSETFROM:-0400
TZOFFSETTO:-0500
TZNAME:EST
DTSTART:20191103T060000
END:STANDARD
BEGIN:DAYLIGHT
TZOFFSETFROM:-0500
TZOFFSETTO:-0400
TZNAME:EDT
DTSTART:20200308T070000
END:DAYLIGHT
BEGIN:STANDARD
TZOFFSETFROM:-0400
TZOFFSETTO:-0500
TZNAME:EST
DTSTART:20201101T060000
END:STANDARD
END:VTIMEZONE
BEGIN:VEVENT
DTSTART;TZID=America/New_York:20191014T123000
DTEND;TZID=America/New_York:20191014T143000
DTSTAMP:20260420T033451
CREATED:20190918T191527Z
LAST-MODIFIED:20190918T191527Z
UID:2529-1571056200-1571063400@gardenclubatpalmcoast.org
SUMMARY:Garden Club Meeting Propagation Guild Plant Sale
DESCRIPTION:Come early to the October 14th Garden Club at Palm Coast Monthly Meeting to browse the propagation plant sale table.  Always lots to chose from and take home to your garden. \nWelcome to start browsing at 12:30PM\, meeting will start at 1:00PM.
URL:https://gardenclubatpalmcoast.org/event/garden-club-meeting-propagation-guild-plant-sale
LOCATION:Flagler County Extension Service\, 150 Sawgrass Road\, Bunnell\, FL\, United States
CATEGORIES:Garden Club Meeting,Other Events
END:VEVENT
END:VCALENDAR