BEGIN:VCALENDAR
VERSION:2.0
PRODID:-//The Garden Club at Palm Coast - ECPv6.15.20//NONSGML v1.0//EN
CALSCALE:GREGORIAN
METHOD:PUBLISH
X-ORIGINAL-URL:https://gardenclubatpalmcoast.org
X-WR-CALDESC:Events for The Garden Club at Palm Coast
REFRESH-INTERVAL;VALUE=DURATION:PT1H
X-Robots-Tag:noindex
X-PUBLISHED-TTL:PT1H
BEGIN:VTIMEZONE
TZID:America/New_York
BEGIN:DAYLIGHT
TZOFFSETFROM:-0500
TZOFFSETTO:-0400
TZNAME:EDT
DTSTART:20180311T070000
END:DAYLIGHT
BEGIN:STANDARD
TZOFFSETFROM:-0400
TZOFFSETTO:-0500
TZNAME:EST
DTSTART:20181104T060000
END:STANDARD
BEGIN:DAYLIGHT
TZOFFSETFROM:-0500
TZOFFSETTO:-0400
TZNAME:EDT
DTSTART:20190310T070000
END:DAYLIGHT
BEGIN:STANDARD
TZOFFSETFROM:-0400
TZOFFSETTO:-0500
TZNAME:EST
DTSTART:20191103T060000
END:STANDARD
BEGIN:DAYLIGHT
TZOFFSETFROM:-0500
TZOFFSETTO:-0400
TZNAME:EDT
DTSTART:20200308T070000
END:DAYLIGHT
BEGIN:STANDARD
TZOFFSETFROM:-0400
TZOFFSETTO:-0500
TZNAME:EST
DTSTART:20201101T060000
END:STANDARD
END:VTIMEZONE
BEGIN:VEVENT
DTSTART;TZID=America/New_York:20190114T130000
DTEND;TZID=America/New_York:20190114T150000
DTSTAMP:20260420T171333
CREATED:20180819T205031Z
LAST-MODIFIED:20180819T205939Z
UID:1042-1547470800-1547478000@gardenclubatpalmcoast.org
SUMMARY:Garden Club Meeting
DESCRIPTION:Planting Trees for Pollinators \nGuest Speaker:    Carol Mini of Urban Forester\, City of Palm Coast \n  \nDescription: Our Pollinators are in Peril. Their habitat is being destroyed and pesticides are taking their toll on the unintended targets. What can you do to help? Plant trees that offer pollen and nectar is a simple but effective solution to support the efforts of these hard-working and important creatures. We will discuss why pollination is important\, who our pollinators are\, and which trees you should plant for pollinators.
URL:https://gardenclubatpalmcoast.org/event/garden-club-meeting-10
LOCATION:Flagler County Extension Service\, 150 Sawgrass Road\, Bunnell\, FL\, United States
CATEGORIES:Garden Club Meeting
END:VEVENT
END:VCALENDAR