BEGIN:VCALENDAR
VERSION:2.0
PRODID:-//The Garden Club at Palm Coast - ECPv6.15.20//NONSGML v1.0//EN
CALSCALE:GREGORIAN
METHOD:PUBLISH
X-ORIGINAL-URL:https://gardenclubatpalmcoast.org
X-WR-CALDESC:Events for The Garden Club at Palm Coast
REFRESH-INTERVAL;VALUE=DURATION:PT1H
X-Robots-Tag:noindex
X-PUBLISHED-TTL:PT1H
BEGIN:VTIMEZONE
TZID:America/New_York
BEGIN:DAYLIGHT
TZOFFSETFROM:-0500
TZOFFSETTO:-0400
TZNAME:EDT
DTSTART:20170312T070000
END:DAYLIGHT
BEGIN:STANDARD
TZOFFSETFROM:-0400
TZOFFSETTO:-0500
TZNAME:EST
DTSTART:20171105T060000
END:STANDARD
BEGIN:DAYLIGHT
TZOFFSETFROM:-0500
TZOFFSETTO:-0400
TZNAME:EDT
DTSTART:20180311T070000
END:DAYLIGHT
BEGIN:STANDARD
TZOFFSETFROM:-0400
TZOFFSETTO:-0500
TZNAME:EST
DTSTART:20181104T060000
END:STANDARD
BEGIN:DAYLIGHT
TZOFFSETFROM:-0500
TZOFFSETTO:-0400
TZNAME:EDT
DTSTART:20190310T070000
END:DAYLIGHT
BEGIN:STANDARD
TZOFFSETFROM:-0400
TZOFFSETTO:-0500
TZNAME:EST
DTSTART:20191103T060000
END:STANDARD
END:VTIMEZONE
BEGIN:VEVENT
DTSTART;TZID=America/New_York:20181210T120000
DTEND;TZID=America/New_York:20181210T150000
DTSTAMP:20260420T184742
CREATED:20180819T204944Z
LAST-MODIFIED:20181206T003026Z
UID:1040-1544443200-1544454000@gardenclubatpalmcoast.org
SUMMARY:Garden Club Meeting
DESCRIPTION:Christmas Holiday Party \nOur meeting on Monday\, December 10\, 2018 is a “Pot Luck Luncheon”. Members are asked to bring a food item to share! \nPlease note: This meeting is at the Shepherd of the Coast Lutheran Church\,\n101 Pine Lakes Pkwy\, Palm Coast\, FL 32164 \nPlease note (2): The meeting starts at 12-NOON \n\nSelection of the Month Presentation\nAnnouncements\nDoor Prizes\, Raffles & 50/50\nLuncheon\n\n“Giving Tree”\nPlease bring a donation for the “Giving Tree”. The two causes selected for this year’s “Giving Tree” are “Whispering Meadows Ranch” and “The Family Life Center”. \n\nYour donation is accepted in Cash or Check and we take Credit Cards too.\nYour donations are tax deductible and we will provide receipts when requested.\n\nWhispering Meadows Ranch\nWhispering Meadows Ranch in Flagler Beach is a non-profit organization founded in 2008 dedicated to enriching the lives of those with disabilities and special needs through its recreational\, educational and equine-assisted programs. \nFamily Life Center\nThe mission statement for our Family Life Center is as follows:\nThe mission of the Family Life Center is to provide essential support to individuals and families to end Domestic Violence and Sexual violence in Flagler County. The Family Life Center is a private not for profit social services   organization providing no-cost services to individuals and families experiencing Domestic or Sexual Violence. \nThis organization provides shelter and other services such as domestic abuse therapy\, help with clothing\, child care and food. The Family Life Center provides a safe house where women and children are safe from violence.
URL:https://gardenclubatpalmcoast.org/event/garden-club-meeting-9
LOCATION:Shepherd of the Coast Lutheran Church\, 101 Pine Lakes Pkwy\, Palm Coast\, FL\, 32164\, United States
CATEGORIES:Fundraiser,Garden Club Meeting
END:VEVENT
END:VCALENDAR